BEGIN:VCALENDAR
VERSION:2.0
PRODID:-//hacksw/handcal//NONSGML v1.0//EN
BEGIN:VEVENT
SUMMARY:Vosg'Nat 3
UID:33982662-0acf-467d-affa-506342b9d92f
DTSTART:20260412T060000Z
DTEND:20260412T163000Z
LOCATION:Localisation 2 place Raymond Pitet 88300 Neufchateau
CATEGORIES:Sportif
STATUS:
DESCRIPTION:<p style="text-align:center;"><span
 style="font-size:14px;">Vosg' Nat 3</span></p>
 
 <p><span
 style="font-size:14px;">Dimanche 12 avril, nous serons presents a la
 piscine de Neufchateau pour le 3eme edition des Vosg'
 Nat.</span></p>
 
 <p><span style="font-size:14px;">5 clubs seront
 reunis pour l'occasion, avec pres de 90 nageurs toutes
 categories.</span></p>
 
 <p><span style="font-size:14px;">Une tres
 belle journee de competition en perspsective entre vitesse, endurance
 et surtout un bel esprit d'equipe !!!</span></p>
 
 <p><span
 style="font-size:14px;">Venez nombreux les encourager
 🔥🔥🔥</span></p>
 
 <p><span style="font-size:14px;">Vous pouvez
 suivre le programme et les resulats sur ce lien <a
 href="https://www.liveffn.com/cgi-bin/index.php?competition=93317"
 target="_blank" rel="noreferrer noopener">cliquez ici</a></span></p>
URL;VALUE=URI:https://cnepinal-natation.sportsregions.fr/evenements/2026/04/12/vosgnat-3-2440032
END:VEVENT
END:VCALENDAR
